BEGIN:VCALENDAR
VERSION:2.0
PRODID:-//Off The / Lane - ECPv6.15.20//NONSGML v1.0//EN
CALSCALE:GREGORIAN
METHOD:PUBLISH
X-ORIGINAL-URL:https://offthelane.org
X-WR-CALDESC:Events for Off The / Lane
REFRESH-INTERVAL;VALUE=DURATION:PT1H
X-Robots-Tag:noindex
X-PUBLISHED-TTL:PT1H
BEGIN:VTIMEZONE
TZID:America/Halifax
BEGIN:DAYLIGHT
TZOFFSETFROM:-0400
TZOFFSETTO:-0300
TZNAME:ADT
DTSTART:20200308T060000
END:DAYLIGHT
BEGIN:STANDARD
TZOFFSETFROM:-0300
TZOFFSETTO:-0400
TZNAME:AST
DTSTART:20201101T050000
END:STANDARD
BEGIN:DAYLIGHT
TZOFFSETFROM:-0400
TZOFFSETTO:-0300
TZNAME:ADT
DTSTART:20210314T060000
END:DAYLIGHT
BEGIN:STANDARD
TZOFFSETFROM:-0300
TZOFFSETTO:-0400
TZNAME:AST
DTSTART:20211107T050000
END:STANDARD
BEGIN:DAYLIGHT
TZOFFSETFROM:-0400
TZOFFSETTO:-0300
TZNAME:ADT
DTSTART:20220313T060000
END:DAYLIGHT
BEGIN:STANDARD
TZOFFSETFROM:-0300
TZOFFSETTO:-0400
TZNAME:AST
DTSTART:20221106T050000
END:STANDARD
END:VTIMEZONE
BEGIN:VTIMEZONE
TZID:America/New_York
BEGIN:DAYLIGHT
TZOFFSETFROM:-0500
TZOFFSETTO:-0400
TZNAME:EDT
DTSTART:20200308T070000
END:DAYLIGHT
BEGIN:STANDARD
TZOFFSETFROM:-0400
TZOFFSETTO:-0500
TZNAME:EST
DTSTART:20201101T060000
END:STANDARD
BEGIN:DAYLIGHT
TZOFFSETFROM:-0500
TZOFFSETTO:-0400
TZNAME:EDT
DTSTART:20210314T070000
END:DAYLIGHT
BEGIN:STANDARD
TZOFFSETFROM:-0400
TZOFFSETTO:-0500
TZNAME:EST
DTSTART:20211107T060000
END:STANDARD
BEGIN:DAYLIGHT
TZOFFSETFROM:-0500
TZOFFSETTO:-0400
TZNAME:EDT
DTSTART:20220313T070000
END:DAYLIGHT
BEGIN:STANDARD
TZOFFSETFROM:-0400
TZOFFSETTO:-0500
TZNAME:EST
DTSTART:20221106T060000
END:STANDARD
END:VTIMEZONE
BEGIN:VEVENT
DTSTART;VALUE=DATE:20210301
DTEND;VALUE=DATE:20210302
DTSTAMP:20260421T051119
CREATED:20201215T224426Z
LAST-MODIFIED:20201215T224440Z
UID:10000066-1614556800-1614643199@offthelane.org
SUMMARY:MP5: Mentorship Program // Spring 2021 Session Starts
DESCRIPTION:
URL:https://offthelane.org/event/mp5-mentorship-program-spring-2021-session-starts/
LOCATION:NY
END:VEVENT
BEGIN:VEVENT
DTSTART;TZID=America/New_York:20210318T183000
DTEND;TZID=America/New_York:20210318T193000
DTSTAMP:20260421T051119
CREATED:20210301T145250Z
LAST-MODIFIED:20210318T192838Z
UID:10000070-1616092200-1616095800@offthelane.org
SUMMARY:Speaker Series: The Art of Wellness
DESCRIPTION:JOIN US for this wonderful virtual event. Our educators have generously donated their time and all proceeds will be split equally between Off The Lane’s Programs! We aim to provide a community\, home base and safe space for artists transitioning from student to seasoned and thriving professional. Learn more about the event HERE.\n\n\n\n\n\n\n\n\n\nA ZOOM link will be shared with you prior to the event date! \n\n\n\nBreakout rooms will be preassigned. Select your top 2 choices on your ticket!\n\n\n\n\n\n\n\n\n\n\n\n\n\n\n\n\n\n\n\nCan’t make the event but want to support Off The Lane. \n\n\n\nAll proceeds will be split evenly between all of our programs. \n\n\n\n						\n							The form is not published.
URL:https://offthelane.org/event/speaker-series-the-art-of-wellness/
LOCATION:NY
CATEGORIES:Webinars
ATTACH;FMTTYPE=image/jpeg:https://offthelane.org/wp-content/uploads/2021/02/IG-Posts-Wellness.jpg
END:VEVENT
END:VCALENDAR