BEGIN:VCALENDAR
VERSION:2.0
PRODID:-//Off The / Lane - ECPv6.15.20//NONSGML v1.0//EN
CALSCALE:GREGORIAN
METHOD:PUBLISH
X-ORIGINAL-URL:https://offthelane.org
X-WR-CALDESC:Events for Off The / Lane
REFRESH-INTERVAL;VALUE=DURATION:PT1H
X-Robots-Tag:noindex
X-PUBLISHED-TTL:PT1H
BEGIN:VTIMEZONE
TZID:America/New_York
BEGIN:DAYLIGHT
TZOFFSETFROM:-0500
TZOFFSETTO:-0400
TZNAME:EDT
DTSTART:20190310T070000
END:DAYLIGHT
BEGIN:STANDARD
TZOFFSETFROM:-0400
TZOFFSETTO:-0500
TZNAME:EST
DTSTART:20191103T060000
END:STANDARD
BEGIN:DAYLIGHT
TZOFFSETFROM:-0500
TZOFFSETTO:-0400
TZNAME:EDT
DTSTART:20200308T070000
END:DAYLIGHT
BEGIN:STANDARD
TZOFFSETFROM:-0400
TZOFFSETTO:-0500
TZNAME:EST
DTSTART:20201101T060000
END:STANDARD
BEGIN:DAYLIGHT
TZOFFSETFROM:-0500
TZOFFSETTO:-0400
TZNAME:EDT
DTSTART:20210314T070000
END:DAYLIGHT
BEGIN:STANDARD
TZOFFSETFROM:-0400
TZOFFSETTO:-0500
TZNAME:EST
DTSTART:20211107T060000
END:STANDARD
END:VTIMEZONE
BEGIN:VEVENT
DTSTART;VALUE=DATE:20200325
DTEND;VALUE=DATE:20200326
DTSTAMP:20260420T041700
CREATED:20200309T183206Z
LAST-MODIFIED:20200403T195023Z
UID:10000050-1585094400-1585180799@offthelane.org
SUMMARY:OFF / THE LANE : SPEAKER SERIES
DESCRIPTION:Matt Zur / President of WAV\nINSTAGRAM STORIES\n\nWEB\, DIGITAL STRATEGY\, DESIGN\, BRANDING
URL:https://offthelane.org/event/off-the-lane-speaker-series-mattz/
LOCATION:MEAUX SPACE\, 305 7TH AVE FL 17\, NEW YORK\, NY\, 10001\, United States
ORGANIZER;CN="Off The Lane":MAILTO:hello@offthelane.org
END:VEVENT
BEGIN:VEVENT
DTSTART;TZID=America/New_York:20200226T180000
DTEND;TZID=America/New_York:20200226T200000
DTSTAMP:20260420T041700
CREATED:20200129T220923Z
LAST-MODIFIED:20200211T192353Z
UID:10000049-1582740000-1582747200@offthelane.org
SUMMARY:OFF / THE LANE: Speaker Series
DESCRIPTION:Kristal Mallookis / CEO at Mustard Lane & President of Off The Lane\n \nCome join us as we listen to Kristal Mallookis talk about how she built Mustard Lane and why Off The Lane was founded. \n  \n  \n  \nOff The Lane feels it’s important to set yourself up for success and through frequent workshops and classes\, our aim is to educate our community and keep them one step ahead. The Speaker Series will bring in an expert that focuses on a different topic every month.
URL:https://offthelane.org/event/speaker-series-kristal/
LOCATION:MEAUX SPACE\, 305 7TH AVE FL 17\, NEW YORK\, NY\, 10001\, United States
ORGANIZER;CN="Off The Lane":MAILTO:hello@offthelane.org
END:VEVENT
END:VCALENDAR