BEGIN:VCALENDAR
VERSION:2.0
PRODID:-//Off The / Lane - ECPv6.15.20//NONSGML v1.0//EN
CALSCALE:GREGORIAN
METHOD:PUBLISH
X-WR-CALNAME:Off The / Lane
X-ORIGINAL-URL:https://offthelane.org
X-WR-CALDESC:Events for Off The / Lane
REFRESH-INTERVAL;VALUE=DURATION:PT1H
X-Robots-Tag:noindex
X-PUBLISHED-TTL:PT1H
BEGIN:VTIMEZONE
TZID:America/New_York
BEGIN:DAYLIGHT
TZOFFSETFROM:-0500
TZOFFSETTO:-0400
TZNAME:EDT
DTSTART:20200308T070000
END:DAYLIGHT
BEGIN:STANDARD
TZOFFSETFROM:-0400
TZOFFSETTO:-0500
TZNAME:EST
DTSTART:20201101T060000
END:STANDARD
BEGIN:DAYLIGHT
TZOFFSETFROM:-0500
TZOFFSETTO:-0400
TZNAME:EDT
DTSTART:20210314T070000
END:DAYLIGHT
BEGIN:STANDARD
TZOFFSETFROM:-0400
TZOFFSETTO:-0500
TZNAME:EST
DTSTART:20211107T060000
END:STANDARD
BEGIN:DAYLIGHT
TZOFFSETFROM:-0500
TZOFFSETTO:-0400
TZNAME:EDT
DTSTART:20220313T070000
END:DAYLIGHT
BEGIN:STANDARD
TZOFFSETFROM:-0400
TZOFFSETTO:-0500
TZNAME:EST
DTSTART:20221106T060000
END:STANDARD
END:VTIMEZONE
BEGIN:VTIMEZONE
TZID:America/Halifax
BEGIN:DAYLIGHT
TZOFFSETFROM:-0400
TZOFFSETTO:-0300
TZNAME:ADT
DTSTART:20190310T060000
END:DAYLIGHT
BEGIN:STANDARD
TZOFFSETFROM:-0300
TZOFFSETTO:-0400
TZNAME:AST
DTSTART:20191103T050000
END:STANDARD
BEGIN:DAYLIGHT
TZOFFSETFROM:-0400
TZOFFSETTO:-0300
TZNAME:ADT
DTSTART:20200308T060000
END:DAYLIGHT
BEGIN:STANDARD
TZOFFSETFROM:-0300
TZOFFSETTO:-0400
TZNAME:AST
DTSTART:20201101T050000
END:STANDARD
BEGIN:DAYLIGHT
TZOFFSETFROM:-0400
TZOFFSETTO:-0300
TZNAME:ADT
DTSTART:20210314T060000
END:DAYLIGHT
BEGIN:STANDARD
TZOFFSETFROM:-0300
TZOFFSETTO:-0400
TZNAME:AST
DTSTART:20211107T050000
END:STANDARD
BEGIN:DAYLIGHT
TZOFFSETFROM:-0400
TZOFFSETTO:-0300
TZNAME:ADT
DTSTART:20220313T060000
END:DAYLIGHT
BEGIN:STANDARD
TZOFFSETFROM:-0300
TZOFFSETTO:-0400
TZNAME:AST
DTSTART:20221106T050000
END:STANDARD
END:VTIMEZONE
BEGIN:VTIMEZONE
TZID:America/New_York
BEGIN:DAYLIGHT
TZOFFSETFROM:-0500
TZOFFSETTO:-0400
TZNAME:EDT
DTSTART:20190310T070000
END:DAYLIGHT
BEGIN:STANDARD
TZOFFSETFROM:-0400
TZOFFSETTO:-0500
TZNAME:EST
DTSTART:20191103T060000
END:STANDARD
BEGIN:DAYLIGHT
TZOFFSETFROM:-0500
TZOFFSETTO:-0400
TZNAME:EDT
DTSTART:20200308T070000
END:DAYLIGHT
BEGIN:STANDARD
TZOFFSETFROM:-0400
TZOFFSETTO:-0500
TZNAME:EST
DTSTART:20201101T060000
END:STANDARD
BEGIN:DAYLIGHT
TZOFFSETFROM:-0500
TZOFFSETTO:-0400
TZNAME:EDT
DTSTART:20210314T070000
END:DAYLIGHT
BEGIN:STANDARD
TZOFFSETFROM:-0400
TZOFFSETTO:-0500
TZNAME:EST
DTSTART:20211107T060000
END:STANDARD
BEGIN:DAYLIGHT
TZOFFSETFROM:-0500
TZOFFSETTO:-0400
TZNAME:EDT
DTSTART:20220313T070000
END:DAYLIGHT
BEGIN:STANDARD
TZOFFSETFROM:-0400
TZOFFSETTO:-0500
TZNAME:EST
DTSTART:20221106T060000
END:STANDARD
END:VTIMEZONE
BEGIN:VTIMEZONE
TZID:UTC
BEGIN:STANDARD
TZOFFSETFROM:+0000
TZOFFSETTO:+0000
TZNAME:UTC
DTSTART:20190101T000000
END:STANDARD
END:VTIMEZONE
BEGIN:VEVENT
DTSTART;TZID=America/New_York:20210921T180000
DTEND;TZID=America/New_York:20210921T203000
DTSTAMP:20260419T230238
CREATED:20210908T030735Z
LAST-MODIFIED:20210914T160652Z
UID:10000077-1632247200-1632256200@offthelane.org
SUMMARY:THE ART OF WELLNESS: BREAKTHROUGH
DESCRIPTION:Welcome Back the Magic – Re-entering our Industry In a New Way! \n\n\n\nWe are beyond excited to have Holly Buczek\, CSA as our incredible guest speaker for this quarter’s Speaker Series at Art of Wellness: Breakthrough at Meaux Space in NYC. The landscape of how we audition for work has changed so much and will continue to. Let’s plan together to journey into this new terrain with confidence! \n\n\n\nClick Here to learn more about Holly Buczek! \n\n\n\nFor those who are joining the class\, Holly is offering a 20 percent discount on a 30 minute on-line personal/professional coaching session. Stay tuned for more information! Holly believes that magic is everywhere and you just have to know where to look…
URL:https://offthelane.org/event/the-art-of-wellness-breakthrough/
LOCATION:MEAUX SPACE\, 305 7TH AVE FL 17\, NEW YORK\, NY\, 10001\, United States
END:VEVENT
BEGIN:VEVENT
DTSTART;VALUE=DATE:20210901
DTEND;VALUE=DATE:20210902
DTSTAMP:20260419T230238
CREATED:20201215T224521Z
LAST-MODIFIED:20210313T025608Z
UID:10000067-1630454400-1630540799@offthelane.org
SUMMARY:MP6: Mentorship Program // FALL 2021 Session Starts
DESCRIPTION:
URL:https://offthelane.org/event/mp6-mentorship-program-fall-2021-session-starts/
LOCATION:NY
END:VEVENT
BEGIN:VEVENT
DTSTART;TZID=America/New_York:20210822T000000
DTEND;TZID=America/New_York:20210823T235900
DTSTAMP:20260419T230238
CREATED:20210716T165936Z
LAST-MODIFIED:20210716T165943Z
UID:10000075-1629590400-1629763140@offthelane.org
SUMMARY:MP6 MENTEE ORIENTATION
DESCRIPTION:
URL:https://offthelane.org/event/mp6-mentee-orientation/
LOCATION:NY
END:VEVENT
BEGIN:VEVENT
DTSTART;TZID=America/New_York:20210812T180000
DTEND;TZID=America/New_York:20210812T210000
DTSTAMP:20260419T230238
CREATED:20210716T165733Z
LAST-MODIFIED:20210716T165737Z
UID:10000074-1628791200-1628802000@offthelane.org
SUMMARY:Mentorship Program: HANG
DESCRIPTION:
URL:https://offthelane.org/event/mentorship-program-hang/
LOCATION:NY
END:VEVENT
BEGIN:VEVENT
DTSTART;TZID=America/New_York:20210617T183000
DTEND;TZID=America/New_York:20210617T200000
DTSTAMP:20260419T230238
CREATED:20210530T232819Z
LAST-MODIFIED:20210601T134601Z
UID:10000073-1623954600-1623960000@offthelane.org
SUMMARY:THE ART OF WELLNESS: REFRESH + RESET
DESCRIPTION:Back by popular demand\, the Art of Wellness: Refresh + Reset is part of Off The Lane’s Speaker Series Program. This quarter’s event is centered around refreshing practices and allowing for a reset after 15 months of isolation. Transitioning back into “normalcy” will not happen overnight and we will not be able to simply return to old practices. This past year has changed us all\, for better or worse\, and allowing ourselves to take that with us into this next chapter will only make us stronger! Learn more about the event HERE. \n\n\n\nEveryone will join us via Zoom for a Welcome by Danielle Beckmann & Opening Class with Spoken Word Poet & Branding Coach\, Jrose. The breakout rooms will open and you will go to your pre-selected 30 Minute Class\, either Refresh & Reset Yoga led by Sumi Yu or Your Holistic Health Reset for Reentering the Outside World led by Sarah Jacobs. At the end of your class\, you will return to the main room for a final segment on How to Stay Consistent Through the Ups and Downs of Your Artistic Career led by our host\, Danielle Beckmann. \n\n\n\nBreakout rooms will be preassigned. Select your top choice on your ticket!
URL:https://offthelane.org/event/the-art-of-wellness-refresh-reset/
LOCATION:NY
ATTACH;FMTTYPE=image/png:https://offthelane.org/wp-content/uploads/2021/05/Main-Post.png
END:VEVENT
BEGIN:VEVENT
DTSTART;TZID=America/New_York:20210602T190000
DTEND;TZID=America/New_York:20210602T200000
DTSTAMP:20260419T230238
CREATED:20210513T190049Z
LAST-MODIFIED:20210513T190055Z
UID:10000072-1622660400-1622664000@offthelane.org
SUMMARY:BOOST BANTERS
DESCRIPTION:Private virtual event curated just for our BOOSTERS.
URL:https://offthelane.org/event/boost-banters/
LOCATION:NY
END:VEVENT
BEGIN:VEVENT
DTSTART;TZID=America/New_York:20210516T000000
DTEND;TZID=America/New_York:20210517T235959
DTSTAMP:20260419T230238
CREATED:20210510T123429Z
LAST-MODIFIED:20210510T123434Z
UID:10000071-1621123200-1621295999@offthelane.org
SUMMARY:MP5 Graduation Ceremonies!
DESCRIPTION:Private Internal Virtual Event
URL:https://offthelane.org/event/mp5-graduation-ceremonies/
LOCATION:NY
END:VEVENT
BEGIN:VEVENT
DTSTART;TZID=America/New_York:20210318T183000
DTEND;TZID=America/New_York:20210318T193000
DTSTAMP:20260419T230238
CREATED:20210301T145250Z
LAST-MODIFIED:20210318T192838Z
UID:10000070-1616092200-1616095800@offthelane.org
SUMMARY:Speaker Series: The Art of Wellness
DESCRIPTION:JOIN US for this wonderful virtual event. Our educators have generously donated their time and all proceeds will be split equally between Off The Lane’s Programs! We aim to provide a community\, home base and safe space for artists transitioning from student to seasoned and thriving professional. Learn more about the event HERE.\n\n\n\n\n\n\n\n\n\nA ZOOM link will be shared with you prior to the event date! \n\n\n\nBreakout rooms will be preassigned. Select your top 2 choices on your ticket!\n\n\n\n\n\n\n\n\n\n\n\n\n\n\n\n\n\n\n\nCan’t make the event but want to support Off The Lane. \n\n\n\nAll proceeds will be split evenly between all of our programs. \n\n\n\n						\n							The form is not published.
URL:https://offthelane.org/event/speaker-series-the-art-of-wellness/
LOCATION:NY
CATEGORIES:Webinars
ATTACH;FMTTYPE=image/jpeg:https://offthelane.org/wp-content/uploads/2021/02/IG-Posts-Wellness.jpg
END:VEVENT
BEGIN:VEVENT
DTSTART;VALUE=DATE:20210301
DTEND;VALUE=DATE:20210302
DTSTAMP:20260419T230238
CREATED:20201215T224426Z
LAST-MODIFIED:20201215T224440Z
UID:10000066-1614556800-1614643199@offthelane.org
SUMMARY:MP5: Mentorship Program // Spring 2021 Session Starts
DESCRIPTION:
URL:https://offthelane.org/event/mp5-mentorship-program-spring-2021-session-starts/
LOCATION:NY
END:VEVENT
BEGIN:VEVENT
DTSTART;TZID=America/New_York:20210221T110000
DTEND;TZID=America/New_York:20210221T120000
DTSTAMP:20260419T230238
CREATED:20210221T150027Z
LAST-MODIFIED:20210221T150030Z
UID:10000069-1613905200-1613908800@offthelane.org
SUMMARY:MP5: Mentor Informational Meeting
DESCRIPTION:Private Event
URL:https://offthelane.org/event/mp5-mentor-informational-meeting/
LOCATION:NY
END:VEVENT
BEGIN:VEVENT
DTSTART;TZID=America/New_York:20210213T110000
DTEND;TZID=America/New_York:20210213T140000
DTSTAMP:20260419T230238
CREATED:20210217T223932Z
LAST-MODIFIED:20210217T223934Z
UID:10000068-1613214000-1613224800@offthelane.org
SUMMARY:MP5 Mentor Training
DESCRIPTION:
URL:https://offthelane.org/event/mp5-mentor-training/
LOCATION:NY
END:VEVENT
BEGIN:VEVENT
DTSTART;TZID=America/Halifax:20201119T160000
DTEND;TZID=America/Halifax:20201119T163000
DTSTAMP:20260419T230238
CREATED:20201104T200904Z
LAST-MODIFIED:20201104T203110Z
UID:10000065-1605801600-1605803400@offthelane.org
SUMMARY:PRIVATE EVENT: MP4 Graduation Ceremony
DESCRIPTION:Off The Lane wants to congratulate our MP4 Class on their completion of The Mentorship Program. We are honored to have been a part of your 2020 journey and extend our heartfelt congratulations on all of your accomplishments so far this year!
URL:https://offthelane.org/event/private-event-mp4-graduation-ceremony/2020-11-19/
LOCATION:ZOOM
ORGANIZER;CN="Off The Lane":MAILTO:hello@offthelane.org
END:VEVENT
BEGIN:VEVENT
DTSTART;TZID=America/Halifax:20201118T180000
DTEND;TZID=America/Halifax:20201118T190000
DTSTAMP:20260419T230238
CREATED:20201030T144653Z
LAST-MODIFIED:20201114T225047Z
UID:10000062-1605722400-1605726000@offthelane.org
SUMMARY:BOOST Banters - Private Event
DESCRIPTION:
URL:https://offthelane.org/event/boost-banters-private-event/
LOCATION:PRIVATE
END:VEVENT
BEGIN:VEVENT
DTSTART;TZID=America/Halifax:20201118T110000
DTEND;TZID=America/Halifax:20201118T113000
DTSTAMP:20260419T230238
CREATED:20201104T200904Z
LAST-MODIFIED:20201104T203110Z
UID:10000064-1605697200-1605699000@offthelane.org
SUMMARY:PRIVATE EVENT: MP4 Graduation Ceremony
DESCRIPTION:Off The Lane wants to congratulate our MP4 Class on their completion of The Mentorship Program. We are honored to have been a part of your 2020 journey and extend our heartfelt congratulations on all of your accomplishments so far this year!
URL:https://offthelane.org/event/private-event-mp4-graduation-ceremony/2020-11-18/
LOCATION:ZOOM
ORGANIZER;CN="Off The Lane":MAILTO:hello@offthelane.org
END:VEVENT
BEGIN:VEVENT
DTSTART;TZID=America/Halifax:20201116T180000
DTEND;TZID=America/Halifax:20201116T183000
DTSTAMP:20260419T230238
CREATED:20201104T200904Z
LAST-MODIFIED:20201104T203110Z
UID:10000063-1605549600-1605551400@offthelane.org
SUMMARY:PRIVATE EVENT: MP4 Graduation Ceremony
DESCRIPTION:Off The Lane wants to congratulate our MP4 Class on their completion of The Mentorship Program. We are honored to have been a part of your 2020 journey and extend our heartfelt congratulations on all of your accomplishments so far this year!
URL:https://offthelane.org/event/private-event-mp4-graduation-ceremony/2020-11-16/
LOCATION:ZOOM
ORGANIZER;CN="Off The Lane":MAILTO:hello@offthelane.org
END:VEVENT
BEGIN:VEVENT
DTSTART;TZID=America/Halifax:20201112T160000
DTEND;TZID=America/Halifax:20201112T170000
DTSTAMP:20260419T230238
CREATED:20200916T204313Z
LAST-MODIFIED:20201014T151817Z
UID:10000061-1605196800-1605200400@offthelane.org
SUMMARY:SPEAKER SERIES // Jessica Scheitler: Financial Groove
DESCRIPTION:Jessica Scheitler owns and operates Financial Groove in New York and Las Vegas\, bridging the gap between creativity and business. Providing accounting and tax expertise for arts and entertainment\, Financial Groove works with the top recognized dance studios in the nation and has clients spanning the globe throughout prominent arts organizations including Broadway\, Cirque Du Soleil\, SYTYCD\, and Alvin Ailey among many others. \nJessica parlayed her Marymount Manhattan College BFA in Choreography and minors in Arts Administration and Mathematics into a specialized career in arts accounting and business management. Jessica grew up dancing in Iowa with roots in competitive dance and then went on to concert dance and to choreograph musical theater and independent modern dance work. Jessica has worked in arts administration for the Lion King on Broadway\, Abingdon Theatre Company and the Metro Arts Council. \nTopics for Webinar on November 12\, 2020\n•Tax Tips for Artists\n•Saving for taxes if you are a 1099 worker\n•Balance the juggle of Covid-19 programs for 2020\n•End of year money moves\n•Guidance for starting fresh in 2021\n•Q&A \n  \n  \n 
URL:https://offthelane.org/event/speaker-series-jessica-scheitler-financial-groove/
LOCATION:zoom
ORGANIZER;CN="Off The Lane":MAILTO:hello@offthelane.org
END:VEVENT
BEGIN:VEVENT
DTSTART;TZID=America/Halifax:20201014T183000
DTEND;TZID=America/Halifax:20201014T203000
DTSTAMP:20260419T230238
CREATED:20200908T193000Z
LAST-MODIFIED:20200908T193500Z
UID:10000059-1602700200-1602707400@offthelane.org
SUMMARY:Mentee Mixer - Private Event
DESCRIPTION:We look forward to hosting a virtual mixer for our MP4 Metees!
URL:https://offthelane.org/event/mentee-mixer-private-event/
LOCATION:PRIVATE
ORGANIZER;CN="Off The Lane":MAILTO:hello@offthelane.org
END:VEVENT
BEGIN:VEVENT
DTSTART;TZID=America/Halifax:20201008T160000
DTEND;TZID=America/Halifax:20201008T170000
DTSTAMP:20260419T230238
CREATED:20200916T200559Z
LAST-MODIFIED:20200917T210405Z
UID:10000060-1602172800-1602176400@offthelane.org
SUMMARY:SPEAKER SERIES // Michael Roderick
DESCRIPTION:Topic: How To Go Where You’re Awesome and Not Where You’re Ordinary: Why the skills that you’ve taken for granted can grant you success!!\n•The 4 myths that keep artists trapped inside a box and how you can overcome them. \n•Why the best thing to do right now is get OUTSIDE of your current circle \n•The reason it is so hard to ask for help and how to transform your thinking around it.  \n•How to give yourself an “F” to get people to pay you more. \n•A process that will help you reframe any failure and turn it into success (even during a pandemic) and much more!
URL:https://offthelane.org/event/speaker-series-michael-roderick/
LOCATION:VIRTUAL
ORGANIZER;CN="Off The Lane":MAILTO:hello@offthelane.org
END:VEVENT
BEGIN:VEVENT
DTSTART;TZID=America/Halifax:20200903T160000
DTEND;TZID=America/Halifax:20200903T170000
DTSTAMP:20260419T230238
CREATED:20200814T015224Z
LAST-MODIFIED:20200903T200652Z
UID:10000055-1599148800-1599152400@offthelane.org
SUMMARY:SPEAKER SERIES // TONY HOWELL
DESCRIPTION:In this exclusive FREE event for OTL\, Tony will teach you how to: \n\nStrategize a “big picture” plan for your life\, career\, and personal brand.\nNavigate your private/personal life and public/professional brand.\nUse your website\, email\, and social media to achieve offline results.\nTrain yourself and your devices: healthy habits and new systems for growth in all areas!\n\nReal talk: your online presence is working for you… or against you. That’s 24/7 and around-the-world. 😱 \nTony will share his proven method to “design your future” and guide you through some instant implementation on Zoom. You’ll leave with a deeper sense of purpose\, personal empowerment\, and a more professional online presence! \n  \n  \nWhether you’re an established pro or an emerging artist\, don’t miss this inspiring and informative live workshop.  \n  \nZOOM LINK https://zoom.us/j/93669741204?pwd=OS9NMGVhNXpoSklkYk13TDRZbnh4QT09 \n  \nAbout the Speaker \nTony Howell is a digital strategist for Emmy\, Grammy\, Tony\, Oscar\, and Olivier award-winning artists. His work has been featured by Google\, Squarespace\, SAG-AFTRA\, Actors’ Equity Association\, and more. Before becoming an entrepreneur\, he was an actor for 20+ years—performing on Broadway\, Off-Broadway\, National Tours\, and more. In addition to 24/7 free content and scholarships to his quarterly programs\, Tony donates a percentage of profits to Broadway Cares/Equity Fights AIDS and 100% of all the profits from his book\, Artists to Artist to the ACLU. Find out more at TonyHowell.me.  \n 
URL:https://offthelane.org/event/speaker-series-tony-howell/
LOCATION:VIRTUAL
ORGANIZER;CN="Off The Lane":MAILTO:hello@offthelane.org
END:VEVENT
BEGIN:VEVENT
DTSTART;VALUE=DATE:20200901
DTEND;VALUE=DATE:20200902
DTSTAMP:20260419T230238
CREATED:20200819T194903Z
LAST-MODIFIED:20200819T201049Z
UID:10000058-1598918400-1599004799@offthelane.org
SUMMARY:BOOST Program Launch!
DESCRIPTION:We are launching our 3rd program\, BOOST\, (Building Occupational Objectives & Skills Together): Early Career Guidance \nOff The Lane’s BOOST Program is designed for early career artists 18+ within their first three years in NYC\, who are looking to advance their careers by developing concrete\, attainable\, and sustainable practices to reach their specific career objectives. Through individual or group sessions\, BOOST provides resources with accompanying insight from experts to help provide the skills to meet their creative goals. \n 
URL:https://offthelane.org/event/boost-program-launch/
LOCATION:PRIVATE
ORGANIZER;CN="Off The Lane":MAILTO:hello@offthelane.org
END:VEVENT
BEGIN:VEVENT
DTSTART;VALUE=DATE:20200901
DTEND;VALUE=DATE:20200902
DTSTAMP:20260419T230238
CREATED:20200819T194623Z
LAST-MODIFIED:20200819T194623Z
UID:10000057-1598918400-1599004799@offthelane.org
SUMMARY:Mentorship Program Fall Session Starts (MP4)
DESCRIPTION:We are thrilled to be starting our Fall 2020 Mentorship Session!
URL:https://offthelane.org/event/mentorship-program-fall-session-starts-mp4/
LOCATION:PRIVATE
ORGANIZER;CN="Off The Lane":MAILTO:hello@offthelane.org
END:VEVENT
BEGIN:VEVENT
DTSTART;TZID=America/Halifax:20200826T190000
DTEND;TZID=America/Halifax:20200826T200000
DTSTAMP:20260419T230238
CREATED:20200819T194335Z
LAST-MODIFIED:20200819T194411Z
UID:10000056-1598468400-1598472000@offthelane.org
SUMMARY:PRIVATE EVENT: Mentor Mixer
DESCRIPTION:We are so excited for the next semester of the Mentorship Program to begin (MP4)\, we can hardly wait! This event is exclusively for Mentors\, we will welcome the new Mentors into the family and all of us will chat about our experiences\, some tricks we’ve learned\, and best practices!
URL:https://offthelane.org/event/private-event-mentor-mixer/
LOCATION:PRIVATE
ORGANIZER;CN="Off The Lane":MAILTO:hello@offthelane.org
END:VEVENT
BEGIN:VEVENT
DTSTART;TZID=America/Halifax:20200730T180000
DTEND;TZID=America/Halifax:20200730T193000
DTSTAMP:20260419T230238
CREATED:20200707T194952Z
LAST-MODIFIED:20200716T133743Z
UID:10000054-1596132000-1596137400@offthelane.org
SUMMARY:Empower Artists: A Virtual Fundraiser
DESCRIPTION:CLICK HERE FOR TICKETS\nWe’re hosting a live Virtual Fundraiser via Zoom on July 30th at 6 pm ET. The show will have a combination of performances\, interviews\, giveaways\, and more! Tickets are $20.00. \nOnce you purchase a ticket you will receive a private Zoom link within 72 hours of your ticket purchase confirmation! You will also receive a fun little gift from us for your Instagram story to show off that you are a proud support of our event and all the good we continue to do at\, Off The Lane! Be sure to share and tag us on social media! @offthelane \nWe are so excited for you to tune in and join us for all the fun! \nAbout Off The Lane: Off The Lane is a registered 501(c)(3) non-profit organization. The goal of the organization is to give back through outreach and education. From partnering with schools\, producing workshops\, teaching classes\, and our Monthly Speaker Series\, Off The Lane aims to be a resource for artists and a champion for those pursuing their dreams. \n 
URL:https://offthelane.org/event/empower/
LOCATION:VIRTUAL
ORGANIZER;CN="Off The Lane":MAILTO:hello@offthelane.org
END:VEVENT
BEGIN:VEVENT
DTSTART;TZID=America/Halifax:20200708T110000
DTEND;TZID=America/Halifax:20200708T120000
DTSTAMP:20260419T230238
CREATED:20200707T194615Z
LAST-MODIFIED:20200707T194915Z
UID:10000053-1594206000-1594209600@offthelane.org
SUMMARY:SPEAKER SERIES: MENTEE EDITION
DESCRIPTION:THIS IS A PRIVATE EVENT. \nSpeaker Series_MenteeEdition_7_8 \n 
URL:https://offthelane.org/event/speaker-series-mentee-edition/
LOCATION:NY
END:VEVENT
BEGIN:VEVENT
DTSTART;TZID=UTC:20200625T163000
DTEND;TZID=UTC:20200625T173000
DTSTAMP:20260419T230238
CREATED:20200605T222158Z
LAST-MODIFIED:20200609T143452Z
UID:10000052-1593102600-1593106200@offthelane.org
SUMMARY:OFF / THE LANE: SPEAKER SERIES // THE WELLNESS PROJECT
DESCRIPTION:ZOOM EVENT 6/25 4:30p-5:30p EST          \n\n\n\n“THE HOLISTIC HOTLIST” : The top 5 change-your-life Holistic Health Hacks \n\n\n\nCo-founded by Rachel Brown + Sarah Jacobs\, two holistic nutritional counselors\, THE WELLNESS PROJECT NYC travels the country working with companies + organizations of all sizes to bring real\, lasting healthy change to the lives of their people. \n\n\n\nMarrying holistic health + entertainment\, TWP breaks down the complicated world of wellness\, making it attainable and accessible for everyone. Health is about so much more than numbers on a scale. Working with human psychology and physiology instead of against it\, TWP takes a holistic approach to health\, educating individuals and supporting them through making attainable lifestyle shifts. \n\n\n\n\n60-minute interactive workshop where TWP addresses common misconceptions surrounding holistic health\, and dives into five of their life-changing holistic health hacks. Touching on biology\, nutritional science\, and mental well-being\, the workshop will introduce the topics at hand through immersion\, education… and fun!
URL:https://offthelane.org/event/off-the-lane-speaker-series-the-wellness-project/
LOCATION:NY
CATEGORIES:Webinars
ORGANIZER;CN="Off The Lane":MAILTO:hello@offthelane.org
END:VEVENT
BEGIN:VEVENT
DTSTART;TZID=UTC:20200521T163000
DTEND;TZID=UTC:20200521T173000
DTSTAMP:20260419T230238
CREATED:20200504T135814Z
LAST-MODIFIED:20200506T172909Z
UID:10000051-1590078600-1590082200@offthelane.org
SUMMARY:OFF / THE LANE: SPEAKER SERIES // KELLY KLEIN
DESCRIPTION:ZOOM CONFERENCE\n\n\n\n\n\nKelly is an actor\, producer\, and acting coach originally from LA but has made NYC her artistic home since attending the New School University (Class of ’07). Acting credits include “Taking Woodstock” (Dir. Ang Lee)\, T.V. shows “FBI: Most Wanted\,” “Law & Order: SVU\,” “Nurse Jackie\,” “Gilmore Girls\,” and “The Jake Effect” and theatre including “The Diary of Anne Frank” (Nat’l tour with Barter Theater) and multiple shows with BREAD Arts Collective including “The Great American Casket Company” at the historic Green-Wood Cemetery in Brooklyn. Producing credits include the short digital anthology “Owls & Echoes”\, the web series pilot “Stranger Friends” and the web series “Specretaries.” She is a proud IFP fellow and member of BREAD Arts Collective and owns and operates Calloway Productions\, a self-tape and coaching service for actors. Additionally\, she loves her work on The Lane as Admin Support and is a proud “laner\,” having worked with ML since 2013.  \n\n\n\nKelly launched Calloway Productions in 2016 and has now worked with well over 600 individual actors\, helping them coach and self-tape for auditions as well as assisting in editing reels and clips. Having grown up in L.A.\, she landed her first agent at the ripe age of six while chatting up a server in a restaurant. Turns out\, that server’s sister was a talent manager for kids\, and the rest is history.  \n\n\n\nKelly started CP out of her Upper East Side studio. It was very meta\, a production studio inside a studio! Then\, in 2020\, she made the leap and got her very own midtown manhattan space just for her business! Now\, with Covid on the rise and self-tapes more in-demand than ever\, she is pivoting to help her clients with virtual sessions. \n\n\n\nKelly has been “on The Lane” since 2013 working gigs. She then transitioned exclusively to her Admin Support role when Calloway Productions started to take off. Most notably\, she helps laners get paid and is very thankful for the support of the ML internal staff\, the larger ML community\, and especially to Kristal. Big mustard hearts!! \n\n\n\n\nTopics: Equipment\, Self-Tape Framing\, Lighting\, Sound\, Readers and Eyelines\, Slates\, Editing\, Naming Files\, Sending files/uploading to casting sites\, General Do’s and Don’ts of Self-Taping\, Q&A \n\n\n\n\n\n\n\n\n\n\n\n\n 
URL:https://offthelane.org/event/off-the-lane-speaker-series-kelly-klein/
LOCATION:NY
ORGANIZER;CN="Off The Lane":MAILTO:education@offthelane.org
END:VEVENT
BEGIN:VEVENT
DTSTART;VALUE=DATE:20200325
DTEND;VALUE=DATE:20200326
DTSTAMP:20260419T230238
CREATED:20200309T183206Z
LAST-MODIFIED:20200403T195023Z
UID:10000050-1585094400-1585180799@offthelane.org
SUMMARY:OFF / THE LANE : SPEAKER SERIES
DESCRIPTION:Matt Zur / President of WAV\nINSTAGRAM STORIES\n\nWEB\, DIGITAL STRATEGY\, DESIGN\, BRANDING
URL:https://offthelane.org/event/off-the-lane-speaker-series-mattz/
LOCATION:MEAUX SPACE\, 305 7TH AVE FL 17\, NEW YORK\, NY\, 10001\, United States
ORGANIZER;CN="Off The Lane":MAILTO:hello@offthelane.org
END:VEVENT
BEGIN:VEVENT
DTSTART;TZID=America/New_York:20200226T180000
DTEND;TZID=America/New_York:20200226T200000
DTSTAMP:20260419T230238
CREATED:20200129T220923Z
LAST-MODIFIED:20200211T192353Z
UID:10000049-1582740000-1582747200@offthelane.org
SUMMARY:OFF / THE LANE: Speaker Series
DESCRIPTION:Kristal Mallookis / CEO at Mustard Lane & President of Off The Lane\n \nCome join us as we listen to Kristal Mallookis talk about how she built Mustard Lane and why Off The Lane was founded. \n  \n  \n  \nOff The Lane feels it’s important to set yourself up for success and through frequent workshops and classes\, our aim is to educate our community and keep them one step ahead. The Speaker Series will bring in an expert that focuses on a different topic every month.
URL:https://offthelane.org/event/speaker-series-kristal/
LOCATION:MEAUX SPACE\, 305 7TH AVE FL 17\, NEW YORK\, NY\, 10001\, United States
ORGANIZER;CN="Off The Lane":MAILTO:hello@offthelane.org
END:VEVENT
END:VCALENDAR