BEGIN:VCALENDAR
VERSION:2.0
PRODID:-//Off The / Lane - ECPv6.15.20//NONSGML v1.0//EN
CALSCALE:GREGORIAN
METHOD:PUBLISH
X-WR-CALNAME:Off The / Lane
X-ORIGINAL-URL:https://offthelane.org
X-WR-CALDESC:Events for Off The / Lane
REFRESH-INTERVAL;VALUE=DURATION:PT1H
X-Robots-Tag:noindex
X-PUBLISHED-TTL:PT1H
BEGIN:VTIMEZONE
TZID:America/New_York
BEGIN:DAYLIGHT
TZOFFSETFROM:-0500
TZOFFSETTO:-0400
TZNAME:EDT
DTSTART:20200308T070000
END:DAYLIGHT
BEGIN:STANDARD
TZOFFSETFROM:-0400
TZOFFSETTO:-0500
TZNAME:EST
DTSTART:20201101T060000
END:STANDARD
BEGIN:DAYLIGHT
TZOFFSETFROM:-0500
TZOFFSETTO:-0400
TZNAME:EDT
DTSTART:20210314T070000
END:DAYLIGHT
BEGIN:STANDARD
TZOFFSETFROM:-0400
TZOFFSETTO:-0500
TZNAME:EST
DTSTART:20211107T060000
END:STANDARD
BEGIN:DAYLIGHT
TZOFFSETFROM:-0500
TZOFFSETTO:-0400
TZNAME:EDT
DTSTART:20220313T070000
END:DAYLIGHT
BEGIN:STANDARD
TZOFFSETFROM:-0400
TZOFFSETTO:-0500
TZNAME:EST
DTSTART:20221106T060000
END:STANDARD
END:VTIMEZONE
BEGIN:VEVENT
DTSTART;TZID=America/New_York:20210921T180000
DTEND;TZID=America/New_York:20210921T203000
DTSTAMP:20260420T224021
CREATED:20210908T030735Z
LAST-MODIFIED:20210914T160652Z
UID:10000077-1632247200-1632256200@offthelane.org
SUMMARY:THE ART OF WELLNESS: BREAKTHROUGH
DESCRIPTION:Welcome Back the Magic – Re-entering our Industry In a New Way! \n\n\n\nWe are beyond excited to have Holly Buczek\, CSA as our incredible guest speaker for this quarter’s Speaker Series at Art of Wellness: Breakthrough at Meaux Space in NYC. The landscape of how we audition for work has changed so much and will continue to. Let’s plan together to journey into this new terrain with confidence! \n\n\n\nClick Here to learn more about Holly Buczek! \n\n\n\nFor those who are joining the class\, Holly is offering a 20 percent discount on a 30 minute on-line personal/professional coaching session. Stay tuned for more information! Holly believes that magic is everywhere and you just have to know where to look… \n\n\n\n\n\n\n\n\n\n\n\n\n\n\n\n\n\n\n\n\n\n\n\n\n\n\n\n        \n        \n        \n            \n                \n                Mauzy                     \n                        Donate                    \n                \n            \n                    \n    \n    \n    \n\n\n\n        \n        \n                            \n                                \n\n                                \n                            \n                        \n        \n            \n                \n                BOOST our BOOST Program!                     \n                        Donate                    \n                \n            \n                    \n    \n    \n    \n\n\n\n        \n        \n                            \n                                \n\n                                \n                            \n                        \n        \n            \n                \n                Mentorship Program                     \n                        Donate                    \n                \n            \n                    \n    \n    \n    \n\n\n\n        \n        \n                            \n                                \n\n                                \n                            \n                        \n        \n            \n                \n                Off The Lane                     \n                        Donate                    \n                \n            \n                    \n    \n    \n    \n\n\n\n        \n        \n                            \n                                \n\n                                \n                            \n                        \n        \n            \n                \n                Support new works through ColLab!                     \n                        Donate
URL:https://offthelane.org/event/the-art-of-wellness-breakthrough/
LOCATION:MEAUX SPACE\, 305 7TH AVE FL 17\, NEW YORK\, NY\, 10001\, United States
END:VEVENT
END:VCALENDAR