BEGIN:VCALENDAR
VERSION:2.0
PRODID:-//Off The / Lane - ECPv6.15.20//NONSGML v1.0//EN
CALSCALE:GREGORIAN
METHOD:PUBLISH
X-WR-CALNAME:Off The / Lane
X-ORIGINAL-URL:https://offthelane.org
X-WR-CALDESC:Events for Off The / Lane
REFRESH-INTERVAL;VALUE=DURATION:PT1H
X-Robots-Tag:noindex
X-PUBLISHED-TTL:PT1H
BEGIN:VTIMEZONE
TZID:America/New_York
BEGIN:DAYLIGHT
TZOFFSETFROM:-0500
TZOFFSETTO:-0400
TZNAME:EDT
DTSTART:20210314T070000
END:DAYLIGHT
BEGIN:STANDARD
TZOFFSETFROM:-0400
TZOFFSETTO:-0500
TZNAME:EST
DTSTART:20211107T060000
END:STANDARD
BEGIN:DAYLIGHT
TZOFFSETFROM:-0500
TZOFFSETTO:-0400
TZNAME:EDT
DTSTART:20220313T070000
END:DAYLIGHT
BEGIN:STANDARD
TZOFFSETFROM:-0400
TZOFFSETTO:-0500
TZNAME:EST
DTSTART:20221106T060000
END:STANDARD
BEGIN:DAYLIGHT
TZOFFSETFROM:-0500
TZOFFSETTO:-0400
TZNAME:EDT
DTSTART:20230312T070000
END:DAYLIGHT
BEGIN:STANDARD
TZOFFSETFROM:-0400
TZOFFSETTO:-0500
TZNAME:EST
DTSTART:20231105T060000
END:STANDARD
END:VTIMEZONE
BEGIN:VEVENT
DTSTART;TZID=America/New_York:20220721T183000
DTEND;TZID=America/New_York:20220721T203000
DTSTAMP:20260419T143917
CREATED:20220630T193132Z
LAST-MODIFIED:20220718T165328Z
UID:10000085-1658428200-1658435400@offthelane.org
SUMMARY:ColLab Workshop #2
DESCRIPTION:Joins us for our next ColLab event! \n\n\n\nIf you found yourself unable to attend our first artist brainstorming and collaboration event\, or if you just want to keep watering the idea seeds that you started planting at our first event\, please join us!This event is for creatives who are interested in finding collaborators for their artistic projects. Our focus is interdisciplinary\, innovative new work! Artistic exploration and experimentation is deeply encouraged! And if you’re unsure if you’re right for this community and this event\, the answer is that YOU ARE. We want you and all your beautiful ideas. See ya there! — Sophie Brubaker\, Community Coordinator \n\n\n\n\n\n\n\n\n\nAbout ColLab: \n\n\n\nColLab: An Experimental Workshop: Through a mixer-like setting\, “ColLab” will help cultivate and connect NYC-based artists of various disciplines to create innovative pieces. Let’s connect\, create and collaborate! \n\n\n\nCreated and developed by Off The Lane’s Community Coordinator\, Sophie Brubaker\, you are invited to connect with artists\, share stories\, practice\, and conceptualize a potential collaborative project. These interdisciplinary artists will include\, but are not limited to actors\, singers\, musicians of any and all genres\, dancers\, visual artists\, and filmmakers. \n\n\n\nWe envision creating new works of performing and visual arts that are cross-genre\, cross-discipline\, and cross-cultural in a way that unifies the arts and gives new voices and partnerships a platform that they’ve never had before.
URL:https://offthelane.org/event/collab-workshop-2-3/
LOCATION:MEAUX SPACE\, 305 7TH AVE FL 17\, NEW YORK\, NY\, 10001\, United States
END:VEVENT
END:VCALENDAR