BEGIN:VCALENDAR
VERSION:2.0
PRODID:-//Off The / Lane - ECPv6.15.20//NONSGML v1.0//EN
CALSCALE:GREGORIAN
METHOD:PUBLISH
X-ORIGINAL-URL:https://offthelane.org
X-WR-CALDESC:Events for Off The / Lane
REFRESH-INTERVAL;VALUE=DURATION:PT1H
X-Robots-Tag:noindex
X-PUBLISHED-TTL:PT1H
BEGIN:VTIMEZONE
TZID:America/New_York
BEGIN:DAYLIGHT
TZOFFSETFROM:-0500
TZOFFSETTO:-0400
TZNAME:EDT
DTSTART:20210314T070000
END:DAYLIGHT
BEGIN:STANDARD
TZOFFSETFROM:-0400
TZOFFSETTO:-0500
TZNAME:EST
DTSTART:20211107T060000
END:STANDARD
BEGIN:DAYLIGHT
TZOFFSETFROM:-0500
TZOFFSETTO:-0400
TZNAME:EDT
DTSTART:20220313T070000
END:DAYLIGHT
BEGIN:STANDARD
TZOFFSETFROM:-0400
TZOFFSETTO:-0500
TZNAME:EST
DTSTART:20221106T060000
END:STANDARD
BEGIN:DAYLIGHT
TZOFFSETFROM:-0500
TZOFFSETTO:-0400
TZNAME:EDT
DTSTART:20230312T070000
END:DAYLIGHT
BEGIN:STANDARD
TZOFFSETFROM:-0400
TZOFFSETTO:-0500
TZNAME:EST
DTSTART:20231105T060000
END:STANDARD
END:VTIMEZONE
BEGIN:VEVENT
DTSTART;TZID=America/New_York:20220901T183000
DTEND;TZID=America/New_York:20220901T203000
DTSTAMP:20260419T175720
CREATED:20220805T171636Z
LAST-MODIFIED:20220805T191413Z
UID:10000087-1662057000-1662064200@offthelane.org
SUMMARY:BOOST Bash: 2nd Anniversary Party
DESCRIPTION:*This is a private event* \n\n\n\nTwo years ago\, we launched our second OTL programming with the goal of helping artists get that extra boost in their careers. Our wonderful Co-Chairs Ayana Bey and Jillian Vitko (the cool aunts of OTL) like to call it “career therapy.” \n\n\n\nTo celebrate\, we’re throwing a party for our BOOSTers!  \n\n\n\nThursday\, September 1 @6:30pmMeaux Space 305 7th Ave\, 17th FloorNew York\, New York 10001
URL:https://offthelane.org/event/boost-bash-2nd-anniversary-party/
LOCATION:MEAUX SPACE\, 305 7TH AVE FL 17\, NEW YORK\, NY\, 10001\, United States
END:VEVENT
END:VCALENDAR