BEGIN:VCALENDAR
VERSION:2.0
PRODID:-//Off The / Lane - ECPv6.15.20//NONSGML v1.0//EN
CALSCALE:GREGORIAN
METHOD:PUBLISH
X-ORIGINAL-URL:https://offthelane.org
X-WR-CALDESC:Events for Off The / Lane
REFRESH-INTERVAL;VALUE=DURATION:PT1H
X-Robots-Tag:noindex
X-PUBLISHED-TTL:PT1H
BEGIN:VTIMEZONE
TZID:America/New_York
BEGIN:DAYLIGHT
TZOFFSETFROM:-0500
TZOFFSETTO:-0400
TZNAME:EDT
DTSTART:20220313T070000
END:DAYLIGHT
BEGIN:STANDARD
TZOFFSETFROM:-0400
TZOFFSETTO:-0500
TZNAME:EST
DTSTART:20221106T060000
END:STANDARD
BEGIN:DAYLIGHT
TZOFFSETFROM:-0500
TZOFFSETTO:-0400
TZNAME:EDT
DTSTART:20230312T070000
END:DAYLIGHT
BEGIN:STANDARD
TZOFFSETFROM:-0400
TZOFFSETTO:-0500
TZNAME:EST
DTSTART:20231105T060000
END:STANDARD
BEGIN:DAYLIGHT
TZOFFSETFROM:-0500
TZOFFSETTO:-0400
TZNAME:EDT
DTSTART:20240310T070000
END:DAYLIGHT
BEGIN:STANDARD
TZOFFSETFROM:-0400
TZOFFSETTO:-0500
TZNAME:EST
DTSTART:20241103T060000
END:STANDARD
END:VTIMEZONE
BEGIN:VEVENT
DTSTART;TZID=America/New_York:20231015T190000
DTEND;TZID=America/New_York:20231015T220000
DTSTAMP:20260420T232921
CREATED:20231003T022946Z
LAST-MODIFIED:20231014T143539Z
UID:10000097-1697396400-1697407200@offthelane.org
SUMMARY:Open Mic Night
DESCRIPTION:We’re Open! \n\n\n\n(Open Mic that is!) Join us for another fun New York City night of mingling and performances with the Off The Lane and Mustard Lane communiities. \n\n\n\nAll are welcome\, so bring your friends!  \n\n\n\nSign-ups are first come\, first serve.
URL:https://offthelane.org/event/open-mic-night-4/
LOCATION:MEAUX SPACE\, 305 7TH AVE FL 17\, NEW YORK\, NY\, 10001\, United States
ATTACH;FMTTYPE=image/jpeg:https://offthelane.org/wp-content/uploads/2023/10/Open-Mic-10.15-GRID.jpg
END:VEVENT
END:VCALENDAR